BEGIN:VCALENDAR
VERSION:2.0
PRODID:-//Paravoimailijat - ECPv6.15.18//NONSGML v1.0//EN
CALSCALE:GREGORIAN
METHOD:PUBLISH
X-ORIGINAL-URL:https://www.paravoimailijat.fi
X-WR-CALDESC:Tapahtumat Paravoimailijat
REFRESH-INTERVAL;VALUE=DURATION:PT1H
X-Robots-Tag:noindex
X-PUBLISHED-TTL:PT1H
BEGIN:VTIMEZONE
TZID:UTC
BEGIN:STANDARD
TZOFFSETFROM:+0000
TZOFFSETTO:+0000
TZNAME:UTC
DTSTART:20230101T000000
END:STANDARD
END:VTIMEZONE
BEGIN:VEVENT
DTSTART;TZID=UTC:20241002T120000
DTEND;TZID=UTC:20241003T150000
DTSTAMP:20260421T052702
CREATED:20240805T163209Z
LAST-MODIFIED:20240925T143055Z
UID:736-1727870400-1727967600@www.paravoimailijat.fi
SUMMARY:Fysioterapia & Kuntoutus -messut
DESCRIPTION:Paravoimailijat ovat mukana puhujina fysioterapia ja kuntoutus -messuilla 2.-3.10! Esiinnymme kumpanakin päivänä klo 12 & klo 15.
URL:https://www.paravoimailijat.fi/tapahtuma/fysioterapia-kuntoutus-messut/
LOCATION:Helsingin Messukeskus\, Messuaukio 1\, Helsinki\, 00520\, Finland
CATEGORIES:Luento
END:VEVENT
END:VCALENDAR